BEGIN:VCALENDAR
VERSION:2.0
PRODID:-//Tukios.com/
BEGIN:VEVENT
UID:e3537987-4945-4c8b-ada0-66e56714ec5c@www.primrosefuneralservices.com
DTSTAMP:20260420T223556Z
DTSTART:20260424T140000Z
DTEND:20260424T150000Z
SUMMARY:Visitation
DESCRIPTION:Funeral service following visitation
URL:https://www.primrosefuneralservices.com/obituaries/joe-campa
LOCATION: 14822 Main St.  Lytle TX 78052
GEO:29.2354319;-98.7893856
END:VEVENT
END:VCALENDAR