BEGIN:VCALENDAR
VERSION:2.0
PRODID:-//Tukios.com/
BEGIN:VEVENT
UID:62eddcf2-08fb-47f8-a863-f2538f054f66@www.primrosefuneralservices.com
DTSTAMP:20260420T223025Z
DTSTART:20260424T150000Z
DTEND:20260424T160000Z
SUMMARY:Funeral Service
DESCRIPTION:Burial to follow in Lytle Community Cemetery
URL:https://www.primrosefuneralservices.com/obituaries/joe-campa
LOCATION: 14822 Main Street  Lytle TX 78052
GEO:29.2354282;-98.7893633
END:VEVENT
END:VCALENDAR