BEGIN:VCALENDAR
VERSION:2.0
PRODID:-//Tukios.com/
BEGIN:VEVENT
UID:5d5e4023-8cd1-4ad0-aedb-b1008cb1af5e@www.primrosefuneralservices.com
DTSTAMP:20260420T223429Z
DTSTART:20260424T161500Z
DTEND:20260424T164500Z
SUMMARY:Burial
DESCRIPTION:Services to conclude at the cemetery
URL:https://www.primrosefuneralservices.com/obituaries/joe-campa
LOCATION: Corner of N. Benton St. and Laredo St.  Lytle TX 78052
GEO:29.2366737;-98.8006683
END:VEVENT
END:VCALENDAR