BEGIN:VCALENDAR
VERSION:2.0
PRODID:-//Tukios.com/
BEGIN:VEVENT
UID:cc8190da-f7fd-4b4f-ac93-06fbe3fc411d@www.primrosefuneralservices.com
DTSTAMP:20260420T212035Z
DTSTART:20260423T220000Z
DTEND:20260424T020000Z
SUMMARY:Visitation
DESCRIPTION:
URL:https://www.primrosefuneralservices.com/obituaries/ramiro-j-martinez
LOCATION: 303 College Ave.  Devine TX 78016
GEO:29.1403831;-98.909056
END:VEVENT
END:VCALENDAR