BEGIN:VCALENDAR
VERSION:2.0
PRODID:-//Tukios.com/
BEGIN:VEVENT
UID:ab7d5319-2f8d-4ed8-9ebe-8dfeb897d86b@www.primrosefuneralservices.com
DTSTAMP:20260420T212245Z
DTSTART:20260424T000000Z
DTEND:20260424T010000Z
SUMMARY:Rosary
DESCRIPTION:
URL:https://www.primrosefuneralservices.com/obituaries/ramiro-j-martinez
LOCATION: 303 College Ave.  Devine TX 78016
GEO:29.1403831;-98.909056
END:VEVENT
END:VCALENDAR