BEGIN:VCALENDAR
VERSION:2.0
PRODID:-//Tukios.com/
BEGIN:VEVENT
UID:88b84bd0-6b41-4311-9573-770c6bb4b23e@www.primrosefuneralservices.com
DTSTAMP:20260420T211748Z
DTSTART:20260424T150000Z
DTEND:20260424T160000Z
SUMMARY:Mass
DESCRIPTION:Services to conclude at the church.
URL:https://www.primrosefuneralservices.com/obituaries/ramiro-j-martinez
LOCATION: 108 S Washington Dr  Devine TX 78016
GEO:29.1399633;-98.905306
END:VEVENT
END:VCALENDAR